BEGIN:VCALENDAR
VERSION:2.0
PRODID:-//Pranic Healing Foundation of the Philippines - ECPv6.15.20//NONSGML v1.0//EN
CALSCALE:GREGORIAN
METHOD:PUBLISH
X-WR-CALNAME:Pranic Healing Foundation of the Philippines
X-ORIGINAL-URL:https://pranichealing.com.ph
X-WR-CALDESC:Events for Pranic Healing Foundation of the Philippines
REFRESH-INTERVAL;VALUE=DURATION:PT1H
X-Robots-Tag:noindex
X-PUBLISHED-TTL:PT1H
BEGIN:VTIMEZONE
TZID:UTC
BEGIN:STANDARD
TZOFFSETFROM:+0000
TZOFFSETTO:+0000
TZNAME:UTC
DTSTART:20110101T000000
END:STANDARD
END:VTIMEZONE
BEGIN:VEVENT
DTSTART;TZID=UTC:20150819T080000
DTEND;TZID=UTC:20150819T170000
DTSTAMP:20260421T081059
CREATED:20170118T071546Z
LAST-MODIFIED:20170602T074136Z
UID:12677-1439971200-1440003600@pranichealing.com.ph
SUMMARY:Master Choa Kok Sui Inner Buddhism Revealed
DESCRIPTION:The Four Noble Truths and The Eight Fold Path as taught by Lord Buddha are beautifully expounded and clarified by Grandmaster Choa Kok Sui. The different levels and facets of truth\, and the different Schools of Buddhism\, the Four Major Causes of suffering and the Powerful Solutions are all discussed in depth by Grandmaster. \nHe also explains and gives practical applications to these priceless teachings of the Lord Buddha. He gives you a simple road map to utilize the Eight Sacred Paths to systematically put your life in Divine Order.
URL:https://pranichealing.com.ph/event/master-choa-kok-sui-inner-buddhism-revealed/
LOCATION:Unilab Bayanihan Center\, Bayanihan Center Pioneer Pasig City \, Metro Manila\, Philippines
CATEGORIES:Higher Workshop,Special Event
ORGANIZER;CN="Pranic Healing Foundation of the Philippines":MAILTO:pranichealingphilippines@yahoo.com
END:VEVENT
BEGIN:VEVENT
DTSTART;TZID=UTC:20150723T080000
DTEND;TZID=UTC:20150723T170000
DTSTAMP:20260421T081059
CREATED:20160513T040616Z
LAST-MODIFIED:20170615T085348Z
UID:12127-1437638400-1437670800@pranichealing.com.ph
SUMMARY:Achieving Oneness with the Higher Soul- Iloilo
DESCRIPTION:
URL:https://pranichealing.com.ph/event/achieving-oneness-with-the-higher-soul/
LOCATION:Mindanao Pranic Healing and Training Center\, Marcela Building\, 2nd Floor 11-A Jose Palma Gil Street\, Davao City\, Philippines
CATEGORIES:Workshops
ORGANIZER;CN="Pranic Healing Foundation of the Philippines":MAILTO:pranichealingphilippines@yahoo.com
END:VEVENT
BEGIN:VEVENT
DTSTART;TZID=UTC:20150228T080000
DTEND;TZID=UTC:20150228T170000
DTSTAMP:20260421T081059
CREATED:20141220T081039Z
LAST-MODIFIED:20160226T071028Z
UID:11755-1425110400-1425142800@pranichealing.com.ph
SUMMARY:Pranic Psychotherapy
DESCRIPTION:Learn stunning techniques to improve psychological ailments through this 1 day practical seminar\nLEARN MORE
URL:https://pranichealing.com.ph/event/pranic-psychotherapy-28-feb-2016/
LOCATION:WPHF\, Unit 2210\, Medical Plaza Ortigas\, Ortigas\, San Miguel Avenue Pasig City\, Metro Manila\, Philippines
CATEGORIES:Workshops
ATTACH;FMTTYPE=image/jpeg:https://pranichealing.com.ph/wp-content/uploads/2014/12/Pranic-Psychotherapy.jpg
ORGANIZER;CN="Pranic Healing Foundation of the Philippines":MAILTO:pranichealingphilippines@yahoo.com
END:VEVENT
BEGIN:VEVENT
DTSTART;TZID=UTC:20120716T080000
DTEND;TZID=UTC:20120717T170000
DTSTAMP:20260421T081059
CREATED:20150104T032610Z
LAST-MODIFIED:20150923T031011Z
UID:11935-1342425600-1342544400@pranichealing.com.ph
SUMMARY:Kriyashakti
DESCRIPTION:Learn the principles of success and prosperity through a 2 day practical seminar on\nJuly 16-17\, 2015
URL:https://pranichealing.com.ph/event/kriyashakti-2016/
LOCATION:Unilab Bayanihan Center\, Bayanihan Center Pioneer Pasig City \, Metro Manila\, Philippines
CATEGORIES:Higher Workshop
ATTACH;FMTTYPE=image/jpeg:https://pranichealing.com.ph/wp-content/uploads/2014/12/Kriyashakti.jpg
ORGANIZER;CN="Pranic Healing Foundation of the Philippines":MAILTO:pranichealingphilippines@yahoo.com
END:VEVENT
END:VCALENDAR