BEGIN:VCALENDAR
VERSION:2.0
PRODID:-//Pranic Healing Foundation of the Philippines - ECPv6.15.20//NONSGML v1.0//EN
CALSCALE:GREGORIAN
METHOD:PUBLISH
X-ORIGINAL-URL:https://pranichealing.com.ph
X-WR-CALDESC:Events for Pranic Healing Foundation of the Philippines
REFRESH-INTERVAL;VALUE=DURATION:PT1H
X-Robots-Tag:noindex
X-PUBLISHED-TTL:PT1H
BEGIN:VTIMEZONE
TZID:UTC
BEGIN:STANDARD
TZOFFSETFROM:+0000
TZOFFSETTO:+0000
TZNAME:UTC
DTSTART:20140101T000000
END:STANDARD
END:VTIMEZONE
BEGIN:VEVENT
DTSTART;TZID=UTC:20150228T080000
DTEND;TZID=UTC:20150228T170000
DTSTAMP:20260424T153134
CREATED:20141220T081039Z
LAST-MODIFIED:20160226T071028Z
UID:11755-1425110400-1425142800@pranichealing.com.ph
SUMMARY:Pranic Psychotherapy
DESCRIPTION:Learn stunning techniques to improve psychological ailments through this 1 day practical seminar\nLEARN MORE
URL:https://pranichealing.com.ph/event/pranic-psychotherapy-28-feb-2016/
LOCATION:WPHF\, Unit 2210\, Medical Plaza Ortigas\, Ortigas\, San Miguel Avenue Pasig City\, Metro Manila\, Philippines
CATEGORIES:Workshops
ATTACH;FMTTYPE=image/jpeg:https://pranichealing.com.ph/wp-content/uploads/2014/12/Pranic-Psychotherapy.jpg
ORGANIZER;CN="Pranic Healing Foundation of the Philippines":MAILTO:pranichealingphilippines@yahoo.com
END:VEVENT
END:VCALENDAR