BEGIN:VCALENDAR
VERSION:2.0
PRODID:-//Pranic Healing Foundation of the Philippines - ECPv6.15.20//NONSGML v1.0//EN
CALSCALE:GREGORIAN
METHOD:PUBLISH
X-ORIGINAL-URL:https://pranichealing.com.ph
X-WR-CALDESC:Events for Pranic Healing Foundation of the Philippines
REFRESH-INTERVAL;VALUE=DURATION:PT1H
X-Robots-Tag:noindex
X-PUBLISHED-TTL:PT1H
BEGIN:VTIMEZONE
TZID:UTC
BEGIN:STANDARD
TZOFFSETFROM:+0000
TZOFFSETTO:+0000
TZNAME:UTC
DTSTART:20140101T000000
END:STANDARD
END:VTIMEZONE
BEGIN:VEVENT
DTSTART;TZID=UTC:20150919T080000
DTEND;TZID=UTC:20150919T170000
DTSTAMP:20260424T043415
CREATED:20150325T081724Z
LAST-MODIFIED:20150909T074137Z
UID:12014-1442649600-1442682000@pranichealing.com.ph
SUMMARY:Advanced Pranic Healing
DESCRIPTION:Discover the wonder of color pranas and advanced healing techniques through this 1 day practical seminar on September 19\, 2015.\nLEARN MORE
URL:https://pranichealing.com.ph/event/advanced-pranic-healing-sept-19-2015/
LOCATION:WPHF\, Unit 2210\, Medical Plaza Ortigas\, Ortigas\, San Miguel Avenue Pasig City\, Metro Manila\, Philippines
CATEGORIES:Workshops
ATTACH;FMTTYPE=image/jpeg:https://pranichealing.com.ph/wp-content/uploads/2014/12/Advances-Pranic-Healing.jpg
ORGANIZER;CN="Pranic Healing Foundation of the Philippines":MAILTO:pranichealingphilippines@yahoo.com
END:VEVENT
BEGIN:VEVENT
DTSTART;TZID=UTC:20150924T180000
DTEND;TZID=UTC:20150924T210000
DTSTAMP:20260424T043415
CREATED:20150325T053459Z
LAST-MODIFIED:20150921T090458Z
UID:12001-1443117600-1443128400@pranichealing.com.ph
SUMMARY:H.O.M.E. Session
DESCRIPTION:Everyone is welcome! H.O.M.E session\nThis THURSDAY 6:00 pm to 8:30 pm\n \nSpeaker: Al Cui
URL:https://pranichealing.com.ph/event/h-o-m-e-session-sep-24-2015/
LOCATION:WPHF\, Unit 2210\, Medical Plaza Ortigas\, Ortigas\, San Miguel Avenue Pasig City\, Metro Manila\, Philippines
CATEGORIES:H.O.M.E.
ATTACH;FMTTYPE=image/jpeg:https://pranichealing.com.ph/wp-content/uploads/2014/12/Home-Sessions.jpg
ORGANIZER;CN="Pranic Healing Foundation of the Philippines":MAILTO:pranichealingphilippines@yahoo.com
END:VEVENT
END:VCALENDAR