BEGIN:VCALENDAR
VERSION:2.0
PRODID:-//Pranic Healing Foundation of the Philippines - ECPv6.15.20//NONSGML v1.0//EN
CALSCALE:GREGORIAN
METHOD:PUBLISH
X-WR-CALNAME:Pranic Healing Foundation of the Philippines
X-ORIGINAL-URL:https://pranichealing.com.ph
X-WR-CALDESC:Events for Pranic Healing Foundation of the Philippines
REFRESH-INTERVAL;VALUE=DURATION:PT1H
X-Robots-Tag:noindex
X-PUBLISHED-TTL:PT1H
BEGIN:VTIMEZONE
TZID:UTC
BEGIN:STANDARD
TZOFFSETFROM:+0000
TZOFFSETTO:+0000
TZNAME:UTC
DTSTART:20140101T000000
END:STANDARD
END:VTIMEZONE
BEGIN:VEVENT
DTSTART;TZID=UTC:20151121T080000
DTEND;TZID=UTC:20151122T080000
DTSTAMP:20260424T014731
CREATED:20150224T085632Z
LAST-MODIFIED:20151009T022935Z
UID:11999-1448092800-1448179200@pranichealing.com.ph
SUMMARY:Basic Pranic Healing
DESCRIPTION:Explore the world of subtle energies through this 2 day practical seminar on November 21-22\, 2015\nLEARN MORE
URL:https://pranichealing.com.ph/event/basic-pranic-healing-nov-21-22-2015/
LOCATION:WPHF\, Unit 2210\, Medical Plaza Ortigas\, Ortigas\, San Miguel Avenue Pasig City\, Metro Manila\, Philippines
CATEGORIES:Workshops
ATTACH;FMTTYPE=image/jpeg:https://pranichealing.com.ph/wp-content/uploads/2014/12/Basic-Pranic-Healing.jpg
ORGANIZER;CN="Pranic Healing Foundation of the Philippines":MAILTO:pranichealingphilippines@yahoo.com
END:VEVENT
BEGIN:VEVENT
DTSTART;TZID=UTC:20151121T080000
DTEND;TZID=UTC:20151122T170000
DTSTAMP:20260424T014731
CREATED:20141220T075645Z
LAST-MODIFIED:20151111T042102Z
UID:11752-1448092800-1448211600@pranichealing.com.ph
SUMMARY:Basic Pranic Healing
DESCRIPTION:Explore the world of subtle energies through this 2 day practical seminar on November 21-22\, 2015\nLEARN MORE
URL:https://pranichealing.com.ph/event/basic-pranic-healing-nov-21-22-2015-2/
LOCATION:WPHF\, Unit 2210\, Medical Plaza Ortigas\, Ortigas\, San Miguel Avenue Pasig City\, Metro Manila\, Philippines
CATEGORIES:Workshops
ATTACH;FMTTYPE=image/jpeg:https://pranichealing.com.ph/wp-content/uploads/2014/12/Basic-Pranic-Healing.jpg
ORGANIZER;CN="Pranic Healing Foundation of the Philippines":MAILTO:pranichealingphilippines@yahoo.com
END:VEVENT
BEGIN:VEVENT
DTSTART;TZID=UTC:20151129T080000
DTEND;TZID=UTC:20151129T170000
DTSTAMP:20260424T014731
CREATED:20151009T040545Z
LAST-MODIFIED:20151009T062110Z
UID:12049-1448784000-1448816400@pranichealing.com.ph
SUMMARY:Applied Spiritual Technology
DESCRIPTION:APPLIED SPIRITUAL  TECHNOLOGY \nNovember 29\, 2015 \n~Wholesome Service Is A Pathway To A Golden Transformation~ \nA Career- Enrichment Program offered  by the Pranic Healing  Foundation of the Philippines to provide a venue to : \n1. Appreciate & value the vastness & richness of GMCKS Spiritual Technology that paves the way to balanced Material & Spiritual Progress. \n2. Provides  Arhatic Yogis  a practical way of building spiritual  muscles through an elevated profession ( career path) & a vocation with lasting significance \n*Pre-requiste:  Pranic Crystal Healing and Arhatic Yoga Preparatory
URL:https://pranichealing.com.ph/event/applied-spiritual-technology-nov-29-2015/
LOCATION:WPHF\, Unit 2210\, Medical Plaza Ortigas\, Ortigas\, San Miguel Avenue Pasig City\, Metro Manila\, Philippines
CATEGORIES:Workshops
ORGANIZER;CN="Pranic Healing Foundation of the Philippines":MAILTO:pranichealingphilippines@yahoo.com
END:VEVENT
END:VCALENDAR