BEGIN:VCALENDAR
VERSION:2.0
PRODID:-//Pranic Healing Foundation of the Philippines - ECPv6.15.20//NONSGML v1.0//EN
CALSCALE:GREGORIAN
METHOD:PUBLISH
X-WR-CALNAME:Pranic Healing Foundation of the Philippines
X-ORIGINAL-URL:https://pranichealing.com.ph
X-WR-CALDESC:Events for Pranic Healing Foundation of the Philippines
REFRESH-INTERVAL;VALUE=DURATION:PT1H
X-Robots-Tag:noindex
X-PUBLISHED-TTL:PT1H
BEGIN:VTIMEZONE
TZID:UTC
BEGIN:STANDARD
TZOFFSETFROM:+0000
TZOFFSETTO:+0000
TZNAME:UTC
DTSTART:20140101T000000
END:STANDARD
END:VTIMEZONE
BEGIN:VEVENT
DTSTART;VALUE=DATE:20151223
DTEND;VALUE=DATE:20160104
DTSTAMP:20260423T225420
CREATED:20151111T053342Z
LAST-MODIFIED:20151111T060838Z
UID:12053-1450828800-1451865599@pranichealing.com.ph
SUMMARY:Christmas Break
DESCRIPTION:Advisory:  \nOur office will be closed for the Christmas break on December 23\, 2015 to January 3\, 2016.  Regular office  hour will resume on January 4\, 2016\nWishing everyone a blessed Christmas and a wonderful New Year!
URL:https://pranichealing.com.ph/event/happy-holidays/
LOCATION:WPHF\, Unit 2210\, Medical Plaza Ortigas\, Ortigas\, San Miguel Avenue Pasig City\, Metro Manila\, Philippines
CATEGORIES:Special Event
ORGANIZER;CN="Pranic Healing Foundation of the Philippines":MAILTO:pranichealingphilippines@yahoo.com
END:VEVENT
BEGIN:VEVENT
DTSTART;TZID=UTC:20160109T080000
DTEND;TZID=UTC:20160110T170000
DTSTAMP:20260423T225420
CREATED:20150325T055051Z
LAST-MODIFIED:20151210T060813Z
UID:12005-1452326400-1452445200@pranichealing.com.ph
SUMMARY:Basic Pranic Healing
DESCRIPTION:Explore the world of subtle energies through this 2 day practical seminar on JANUARY 9-10\, 2016\nLEARN MORE
URL:https://pranichealing.com.ph/event/basic-pranic-healing-jan-9-10-2015/
LOCATION:WPHF\, Unit 2210\, Medical Plaza Ortigas\, Ortigas\, San Miguel Avenue Pasig City\, Metro Manila\, Philippines
CATEGORIES:Workshops
ATTACH;FMTTYPE=image/jpeg:https://pranichealing.com.ph/wp-content/uploads/2014/12/Basic-Pranic-Healing.jpg
ORGANIZER;CN="Pranic Healing Foundation of the Philippines":MAILTO:pranichealingphilippines@yahoo.com
END:VEVENT
BEGIN:VEVENT
DTSTART;TZID=UTC:20160116T080000
DTEND;TZID=UTC:20160117T170000
DTSTAMP:20260423T225420
CREATED:20150104T020833Z
LAST-MODIFIED:20151210T060647Z
UID:11915-1452931200-1453050000@pranichealing.com.ph
SUMMARY:Basic Pranic Healing
DESCRIPTION:Explore the world of subtle energies through this 2 day practical seminar on January 16-17\, 2016\nLEARN MORE
URL:https://pranichealing.com.ph/event/basic-pranic-healing-jan-16-17-2015/
LOCATION:WPHF\, Unit 2210\, Medical Plaza Ortigas\, Ortigas\, San Miguel Avenue Pasig City\, Metro Manila\, Philippines
CATEGORIES:Workshops
ATTACH;FMTTYPE=image/jpeg:https://pranichealing.com.ph/wp-content/uploads/2014/12/Basic-Pranic-Healing.jpg
ORGANIZER;CN="Pranic Healing Foundation of the Philippines":MAILTO:pranichealingphilippines@yahoo.com
END:VEVENT
BEGIN:VEVENT
DTSTART;TZID=UTC:20160123T080000
DTEND;TZID=UTC:20160124T170000
DTSTAMP:20260423T225420
CREATED:20150104T012756Z
LAST-MODIFIED:20151210T061019Z
UID:11909-1453536000-1453654800@pranichealing.com.ph
SUMMARY:Basic Pranic Healing
DESCRIPTION:Explore the world of subtle energies through this 2 day practical seminar on January 23-24\, 2016\nLEARN MORE
URL:https://pranichealing.com.ph/event/basic-pranic-healing-23-24-jan-2016/
LOCATION:WPHF\, Unit 2210\, Medical Plaza Ortigas\, Ortigas\, San Miguel Avenue Pasig City\, Metro Manila\, Philippines
CATEGORIES:Workshops
ATTACH;FMTTYPE=image/jpeg:https://pranichealing.com.ph/wp-content/uploads/2014/12/Basic-Pranic-Healing.jpg
ORGANIZER;CN="Pranic Healing Foundation of the Philippines":MAILTO:pranichealingphilippines@yahoo.com
END:VEVENT
BEGIN:VEVENT
DTSTART;TZID=UTC:20160130T080000
DTEND;TZID=UTC:20160131T170000
DTSTAMP:20260423T225420
CREATED:20141220T081513Z
LAST-MODIFIED:20151210T061149Z
UID:11756-1454140800-1454259600@pranichealing.com.ph
SUMMARY:Basic Pranic Healing
DESCRIPTION:Explore the world of subtle energies through this 2 day practical seminar on January 30-31\, 2016.\nLEARN MORE
URL:https://pranichealing.com.ph/event/basic-pranic-healing-30-31-jan-2016/
LOCATION:WPHF\, Unit 2210\, Medical Plaza Ortigas\, Ortigas\, San Miguel Avenue Pasig City\, Metro Manila\, Philippines
CATEGORIES:Workshops
ATTACH;FMTTYPE=image/jpeg:https://pranichealing.com.ph/wp-content/uploads/2014/12/Basic-Pranic-Healing.jpg
ORGANIZER;CN="Pranic Healing Foundation of the Philippines":MAILTO:pranichealingphilippines@yahoo.com
END:VEVENT
END:VCALENDAR