BEGIN:VCALENDAR
VERSION:2.0
PRODID:-//Pranic Healing Foundation of the Philippines - ECPv6.15.20//NONSGML v1.0//EN
CALSCALE:GREGORIAN
METHOD:PUBLISH
X-ORIGINAL-URL:https://pranichealing.com.ph
X-WR-CALDESC:Events for Pranic Healing Foundation of the Philippines
REFRESH-INTERVAL;VALUE=DURATION:PT1H
X-Robots-Tag:noindex
X-PUBLISHED-TTL:PT1H
BEGIN:VTIMEZONE
TZID:UTC
BEGIN:STANDARD
TZOFFSETFROM:+0000
TZOFFSETTO:+0000
TZNAME:UTC
DTSTART:20150101T000000
END:STANDARD
END:VTIMEZONE
BEGIN:VEVENT
DTSTART;TZID=UTC:20160212T080000
DTEND;TZID=UTC:20160214T170000
DTSTAMP:20260423T213106
CREATED:20150104T033259Z
LAST-MODIFIED:20151125T053030Z
UID:11936-1455264000-1455469200@pranichealing.com.ph
SUMMARY:Arhatic Yoga Retreat for Level 1-4
DESCRIPTION:February 12-14\, 2015
URL:https://pranichealing.com.ph/event/arhatic-yogis-spiritual-journey/
LOCATION:GMCKS Arhatic Yoga Ashram\, GMCKS Arhatic Yoga Ashram\, India
CATEGORIES:Special Event
ATTACH;FMTTYPE=image/jpeg:https://pranichealing.com.ph/wp-content/uploads/2015/01/Journey-to-Ashram.jpg
ORGANIZER;CN="Pranic Healing Foundation of the Philippines":MAILTO:pranichealingphilippines@yahoo.com
END:VEVENT
BEGIN:VEVENT
DTSTART;VALUE=DATE:20160220
DTEND;VALUE=DATE:20160221
DTSTAMP:20260423T213106
CREATED:20141220T080825Z
LAST-MODIFIED:20160121T062452Z
UID:11754-1455926400-1456012799@pranichealing.com.ph
SUMMARY:Advanced Pranic Healing-Region 1 Pranic Healing Center
DESCRIPTION:Discover the wonder of color pranas and advanced healing techniques through this 1 day practical seminar on February 20\, 2016.\nLEARN MORE
URL:https://pranichealing.com.ph/event/20-feb-16-advanced-pranic-healing-10-oct-2015/
LOCATION:Region 1 Pranic Healing & Training Center\, San Juan La Union\, Metro Manila
CATEGORIES:Workshops
ATTACH;FMTTYPE=image/jpeg:https://pranichealing.com.ph/wp-content/uploads/2014/12/Advances-Pranic-Healing.jpg
ORGANIZER;CN="Pranic Healing Foundation of the Philippines":MAILTO:pranichealingphilippines@yahoo.com
END:VEVENT
BEGIN:VEVENT
DTSTART;TZID=UTC:20160220T080000
DTEND;TZID=UTC:20160221T170000
DTSTAMP:20260423T213106
CREATED:20150325T081310Z
LAST-MODIFIED:20160121T060410Z
UID:12013-1455955200-1456074000@pranichealing.com.ph
SUMMARY:Basic Pranic Healing
DESCRIPTION:Explore the world of subtle energies through this 2 day practical seminar on February 20-21\, 2016\nLEARN MORE
URL:https://pranichealing.com.ph/event/basic-pranic-healing-feb-20-21-2016/
LOCATION:WPHF\, Unit 2210\, Medical Plaza Ortigas\, Ortigas\, San Miguel Avenue Pasig City\, Metro Manila\, Philippines
CATEGORIES:Workshops
ATTACH;FMTTYPE=image/jpeg:https://pranichealing.com.ph/wp-content/uploads/2014/12/Basic-Pranic-Healing.jpg
ORGANIZER;CN="Pranic Healing Foundation of the Philippines":MAILTO:pranichealingphilippines@yahoo.com
END:VEVENT
BEGIN:VEVENT
DTSTART;TZID=UTC:20160227T080000
DTEND;TZID=UTC:20160228T170000
DTSTAMP:20260423T213106
CREATED:20150325T063212Z
LAST-MODIFIED:20160121T060548Z
UID:12009-1456560000-1456678800@pranichealing.com.ph
SUMMARY:Basic Pranic Healing
DESCRIPTION:Explore the world of subtle energies through this 2 day practical seminar on February 27-28\, 2016\nLEARN MORE
URL:https://pranichealing.com.ph/event/basic-pranic-healing-3-nov-27-28-2015/
LOCATION:WPHF\, Unit 2210\, Medical Plaza Ortigas\, Ortigas\, San Miguel Avenue Pasig City\, Metro Manila\, Philippines
CATEGORIES:Workshops
ATTACH;FMTTYPE=image/jpeg:https://pranichealing.com.ph/wp-content/uploads/2014/12/Basic-Pranic-Healing.jpg
ORGANIZER;CN="Pranic Healing Foundation of the Philippines":MAILTO:pranichealingphilippines@yahoo.com
END:VEVENT
END:VCALENDAR