BEGIN:VCALENDAR
VERSION:2.0
PRODID:-//Pranic Healing Foundation of the Philippines - ECPv6.15.20//NONSGML v1.0//EN
CALSCALE:GREGORIAN
METHOD:PUBLISH
X-WR-CALNAME:Pranic Healing Foundation of the Philippines
X-ORIGINAL-URL:https://pranichealing.com.ph
X-WR-CALDESC:Events for Pranic Healing Foundation of the Philippines
REFRESH-INTERVAL;VALUE=DURATION:PT1H
X-Robots-Tag:noindex
X-PUBLISHED-TTL:PT1H
BEGIN:VTIMEZONE
TZID:UTC
BEGIN:STANDARD
TZOFFSETFROM:+0000
TZOFFSETTO:+0000
TZNAME:UTC
DTSTART:20150101T000000
END:STANDARD
END:VTIMEZONE
BEGIN:VEVENT
DTSTART;TZID=UTC:20160409T080000
DTEND;TZID=UTC:20160410T170000
DTSTAMP:20260423T182050
CREATED:20151124T064708Z
LAST-MODIFIED:20170117T083426Z
UID:12061-1460188800-1460307600@pranichealing.com.ph
SUMMARY:Applied Spiritual Technology
DESCRIPTION:Pranic Healing Foundation of the Philippines through the University of Holistic Life Management welcomes you to A Series of a Profession -Vocation Enrichment Program to provide a venue to : \n\nAppreciate & value the vastness & richness of GMCKS Spiritual Technology that paves the way to Material & Spiritual Progress for Balanced Living.\nProvide Arhatic Yogis a practical way of building spiritual muscles through an elevated profession as a vocation serving a noble mission with personal touch but with global impact.\nPerpetuates GMCKS legacy through an excellent & relevant Holistic Life Management from womb to tomb\, from human life to spiritual life\, from visible to invisible co- workers.\n\n  \nBuilding Holistic Life Managers through AST is a response to GMCKS instructions:\n” Pranic Healing must spread like virus constantly\, deeply & quietly” GMCKS\, Inspired Action p2. \n-PRANIC HEALING FOUNDATION OF THE PHILIPPINES-\nUNIVERSITY of HOLISTIC LIFE MANAGEMENT \n2-day seminar – workshop on \nAPPLIED SPIRITUAL TECHNOLOGY LEVEL 1 \n– on becoming a Holistic Life Manager- \nDecember 9-10\, 2017 \n\nA) HEALTH MANAGEMENT:\n-Formula for Miraculous Healing of Karmically caused Ailments.\n-Heal a couple to prepare for a Wholesome Baby with a mature Soul.\n-Heal Psychosomatic ailments with preventive measures such as Autism.\nB) RELATIONSHIP MANAGEMENT\n– Healing & strengthening wholesome family or social relationships.\n– Holistic Management for a Wholesome Life( Heaven within)\n– Restore Peace & Harmony through generational Healing\nC) FINANCIAL MANAGEMENT\n– Healing & Consecrating Business Companies\, Family & Organizations\n– Strengthen Prosperity magnet through visible & invisible co- workers.\n– Heal establishments\, lots \, cars & old stuff from past negative history\nto restore magnetism to God’s abundant blessings.\nD) SPIRITUAL MANAGEMENT\n– Holistic Management of Spiritual disconnection or Emptiness.\n– Consecrating water\, medicines & food stuff for spiritual nourishment.\n– Prepare a dying person for a peaceful and dignified death\n\nApplied Spiritual Technology Series 2( AST Level 2) \nDECEMBER 11\, 2017  \nHolistic Life Management working with the Angelic Kingdom in: Our Family Vocation\, Profession and Occupation \nA)Holistic Family Formation for a Holy Humanity\n– Holistic Parental Formation to build a Holy Family\n– Holistic Leadership Formation starts in every Home\n– Balanced Family Life: Material & Spiritual Prosperity \nB) Holistic Education for wholesome Formation of Professionals\n– Spiritual Leadership in Education to produce genuine Professionals\n– Value integration in Education for Loving Service as our main Business\n– Education for Self formation towards Societal Transformation \nC) -Holistic Agriculture for Wellness\, Richness & Environmental Care\n– Working with the Angels of 4 elements in agriculture\n– Perpetuating  God’s abundance through wholesome  Agriculture\n– Providing a Home to  Nature Spirits and perpetuating\nAngel’s  Presence in the environment \n  \n*Pre-requiste:  Pranic Crystal Healing and Arhatic Yoga Preparatory
URL:https://pranichealing.com.ph/event/applied-spiritual-technology/
LOCATION:Unilab Bayanihan Center\, Bayanihan Center Pioneer Pasig City \, Metro Manila\, Philippines
CATEGORIES:Higher Workshop,Special Event
ORGANIZER;CN="Pranic Healing Foundation of the Philippines":MAILTO:pranichealingphilippines@yahoo.com
END:VEVENT
END:VCALENDAR