BEGIN:VCALENDAR
VERSION:2.0
PRODID:-//Pranic Healing Foundation of the Philippines - ECPv6.15.20//NONSGML v1.0//EN
CALSCALE:GREGORIAN
METHOD:PUBLISH
X-WR-CALNAME:Pranic Healing Foundation of the Philippines
X-ORIGINAL-URL:https://pranichealing.com.ph
X-WR-CALDESC:Events for Pranic Healing Foundation of the Philippines
REFRESH-INTERVAL;VALUE=DURATION:PT1H
X-Robots-Tag:noindex
X-PUBLISHED-TTL:PT1H
BEGIN:VTIMEZONE
TZID:UTC
BEGIN:STANDARD
TZOFFSETFROM:+0000
TZOFFSETTO:+0000
TZNAME:UTC
DTSTART:20160101T000000
END:STANDARD
END:VTIMEZONE
BEGIN:VEVENT
DTSTART;TZID=UTC:20170223T180000
DTEND;TZID=UTC:20170223T210000
DTSTAMP:20260423T020718
CREATED:20170223T075930Z
LAST-MODIFIED:20170223T083213Z
UID:12724-1487872800-1487883600@pranichealing.com.ph
SUMMARY:Healing Orientation Meditation Enlightenment (6pm-9:pm)
DESCRIPTION:
URL:https://pranichealing.com.ph/event/healing-orientation-meditation-enlightenment-6pm-9pm/
LOCATION:WPHF\, Unit 2210\, Medical Plaza Ortigas\, Ortigas\, San Miguel Avenue Pasig City\, Metro Manila\, Philippines
END:VEVENT
BEGIN:VEVENT
DTSTART;TZID=UTC:20170228T180000
DTEND;TZID=UTC:20170228T210000
DTSTAMP:20260423T020718
CREATED:20170223T082440Z
LAST-MODIFIED:20170223T083051Z
UID:12731-1488304800-1488315600@pranichealing.com.ph
SUMMARY:Arhatic Yoga Meditation (6pm-9pm)
DESCRIPTION:  \n 
URL:https://pranichealing.com.ph/event/arhatic-yoga-meditation-6pm-9pm/
LOCATION:WPHF\, Unit 2210\, Medical Plaza Ortigas\, Ortigas\, San Miguel Avenue Pasig City\, Metro Manila\, Philippines
END:VEVENT
END:VCALENDAR