BEGIN:VCALENDAR
VERSION:2.0
PRODID:-//Pranic Healing Foundation of the Philippines - ECPv6.15.20//NONSGML v1.0//EN
CALSCALE:GREGORIAN
METHOD:PUBLISH
X-ORIGINAL-URL:https://pranichealing.com.ph
X-WR-CALDESC:Events for Pranic Healing Foundation of the Philippines
REFRESH-INTERVAL;VALUE=DURATION:PT1H
X-Robots-Tag:noindex
X-PUBLISHED-TTL:PT1H
BEGIN:VTIMEZONE
TZID:UTC
BEGIN:STANDARD
TZOFFSETFROM:+0000
TZOFFSETTO:+0000
TZNAME:UTC
DTSTART:20160101T000000
END:STANDARD
END:VTIMEZONE
BEGIN:VEVENT
DTSTART;TZID=UTC:20170302T180000
DTEND;TZID=UTC:20170302T180000
DTSTAMP:20260423T004353
CREATED:20170223T081923Z
LAST-MODIFIED:20170223T083530Z
UID:12728-1488477600-1488477600@pranichealing.com.ph
SUMMARY:Healing Orientation Meditation Enlightenment (6pm-9:pm)
DESCRIPTION:
URL:https://pranichealing.com.ph/event/healing-orientation-meditation-enlightenment-6pm-9pm-2/
LOCATION:WPHF\, Unit 2210\, Medical Plaza Ortigas\, Ortigas\, San Miguel Avenue Pasig City\, Metro Manila\, Philippines
END:VEVENT
END:VCALENDAR