BEGIN:VCALENDAR
VERSION:2.0
PRODID:-//Pranic Healing Foundation of the Philippines - ECPv6.15.20//NONSGML v1.0//EN
CALSCALE:GREGORIAN
METHOD:PUBLISH
X-ORIGINAL-URL:https://pranichealing.com.ph
X-WR-CALDESC:Events for Pranic Healing Foundation of the Philippines
REFRESH-INTERVAL;VALUE=DURATION:PT1H
X-Robots-Tag:noindex
X-PUBLISHED-TTL:PT1H
BEGIN:VTIMEZONE
TZID:UTC
BEGIN:STANDARD
TZOFFSETFROM:+0000
TZOFFSETTO:+0000
TZNAME:UTC
DTSTART:20160101T000000
END:STANDARD
END:VTIMEZONE
BEGIN:VEVENT
DTSTART;TZID=UTC:20170429T080000
DTEND;TZID=UTC:20170429T170000
DTSTAMP:20260422T230319
CREATED:20141220T084400Z
LAST-MODIFIED:20170202T123657Z
UID:11763-1493452800-1493485200@pranichealing.com.ph
SUMMARY:Pranic Crystal Healing & Applications
DESCRIPTION:Discover the healing power of crystals through this 1 day practical seminar on\nAugust 21 \, 2016\nLEARN MORE
URL:https://pranichealing.com.ph/event/pranic-crystal-healing-applications-feb-28-2016/
LOCATION:WPHF\, Unit 2210\, Medical Plaza Ortigas\, Ortigas\, San Miguel Avenue Pasig City\, Metro Manila\, Philippines
CATEGORIES:Workshops
ATTACH;FMTTYPE=image/jpeg:https://pranichealing.com.ph/wp-content/uploads/2014/12/Pranic-Crystal-Healing.jpg
ORGANIZER;CN="Pranic Healing Foundation of the Philippines":MAILTO:pranichealingphilippines@yahoo.com
END:VEVENT
END:VCALENDAR